BEGIN:VCALENDAR
VERSION:2.0
PRODID:-//wp-events-plugin.com//7.2.3.1//EN
TZID:America/Chicago
X-WR-TIMEZONE:America/Chicago
BEGIN:VEVENT
UID:2356@bnaijehudah.org
DTSTART;TZID=America/Chicago:20250312T171500
DTEND;TZID=America/Chicago:20250312T184500
DTSTAMP:20250226T035928Z
URL:https://bnaijehudah.org/events/social-action-committee-meeting-3/
SUMMARY:Social Action Committee Meeting
DESCRIPTION:Please join us for our March 12 Social Justice Committee meetin
 g at 5:15pm at B’nai Jehudah. This meeting will determine our major invo
 lvements in the coming year starting in June and what scholar-in-residence
  topics we would like to include. Let your voices be heard as we hope to b
 oost our social justice involvement in the community.\n\n&nbsp\;
CATEGORIES:Social Action
END:VEVENT
BEGIN:VTIMEZONE
TZID:America/Chicago
X-LIC-LOCATION:America/Chicago
BEGIN:DAYLIGHT
DTSTART:20250309T030000
TZOFFSETFROM:-0600
TZOFFSETTO:-0500
TZNAME:CDT
END:DAYLIGHT
END:VTIMEZONE
END:VCALENDAR