BEGIN:VCALENDAR
VERSION:2.0
PRODID:-//wp-events-plugin.com//7.2.3.1//EN
TZID:America/Chicago
X-WR-TIMEZONE:America/Chicago
BEGIN:VEVENT
UID:2567@bnaijehudah.org
DTSTART;TZID=America/Chicago:20251005T110000
DTEND;TZID=America/Chicago:20251005T140000
DTSTAMP:20250819T180016Z
URL:https://bnaijehudah.org/events/sukkah-build/
SUMMARY:Brotherhood Sukkah Build
DESCRIPTION:Join the Brotherhood Builders to help erect the Temple Sukkah! 
 Enjoy music and beverages while we work together to put up our Sukkah. Com
 e have some fun while doing a mitzvah for your community! Bring a ladder\,
  work gloves and BYOB. Be prepared to argue how it goes together.\n\nRegis
 ter here.
ATTACH;FMTTYPE=image/jpeg:https://bnaijehudah.org/wp-content/uploads/2025/
 07/Use-this-4.png
CATEGORIES:Brotherhood
END:VEVENT
BEGIN:VTIMEZONE
TZID:America/Chicago
X-LIC-LOCATION:America/Chicago
BEGIN:DAYLIGHT
DTSTART:20250309T030000
TZOFFSETFROM:-0600
TZOFFSETTO:-0500
TZNAME:CDT
END:DAYLIGHT
END:VTIMEZONE
END:VCALENDAR