BEGIN:VCALENDAR
VERSION:2.0
PRODID:-//wp-events-plugin.com//7.2.3.1//EN
TZID:America/Chicago
X-WR-TIMEZONE:America/Chicago
BEGIN:VEVENT
UID:1786@bnaijehudah.org
DTSTART;TZID=America/Chicago:20241020T120000
DTEND;TZID=America/Chicago:20241020T140000
DTSTAMP:20241015T155248Z
URL:https://bnaijehudah.org/events/sukkahpalooza/
SUMMARY:Sukkahpalooza
DESCRIPTION:It's Sukkahpalooza time!\n\nGrab your coats (for our SU-COAT dr
 ive)\, kids\, friends and family for a fun Sukkot celebration: inflatables
 \, music\, carnival games and more at this all-ages event. Help decorate t
 he sukkah\, enjoy a refreshing drink and schmooze. Bring gently used or ne
 w coats to donate to the SU-COAT drive. This event is FREE and open to the
  community. Registration is appreciated but not required.\n\nRegister here
 .
ATTACH;FMTTYPE=image/jpeg:https://bnaijehudah.org/wp-content/uploads/2024/
 10/sukkahpalooza.png
CATEGORIES:Community Connections,Holiday Programming,Sukkot and Simchat
 Torah,TTCBJ,Yalla! and Youth,Young Families
END:VEVENT
BEGIN:VTIMEZONE
TZID:America/Chicago
X-LIC-LOCATION:America/Chicago
BEGIN:DAYLIGHT
DTSTART:20240310T030000
TZOFFSETFROM:-0600
TZOFFSETTO:-0500
TZNAME:CDT
END:DAYLIGHT
END:VTIMEZONE
END:VCALENDAR