BEGIN:VCALENDAR
VERSION:2.0
PRODID:-//wp-events-plugin.com//7.2.3.1//EN
TZID:America/Chicago
X-WR-TIMEZONE:America/Chicago
BEGIN:VEVENT
UID:2509@bnaijehudah.org
DTSTART;TZID=America/Chicago:20241017T180000
DTEND;TZID=America/Chicago:20241017T180000
DTSTAMP:20250603T152025Z
URL:https://bnaijehudah.org/events/sukkot-across-kc-2-2024-10-17/
SUMMARY:Sukkot Across KC
DESCRIPTION:Meet B’nai Jehudah members in your neighborhood at Sukkot acr
 oss KC! Meet new people\, say hello to friends\, have a nosh and celebrate
  the joy of Sukkot!
CATEGORIES:Holiday Programming,Sukkot and Simchat Torah
END:VEVENT
BEGIN:VTIMEZONE
TZID:America/Chicago
X-LIC-LOCATION:America/Chicago
BEGIN:DAYLIGHT
DTSTART:20240310T030000
TZOFFSETFROM:-0600
TZOFFSETTO:-0500
TZNAME:CDT
END:DAYLIGHT
END:VTIMEZONE
END:VCALENDAR