BEGIN:VCALENDAR
VERSION:2.0
PRODID:-//wp-events-plugin.com//7.2.3.1//EN
TZID:America/Chicago
X-WR-TIMEZONE:America/Chicago
BEGIN:VEVENT
UID:655@bnaijehudah.org
DTSTART;TZID=America/Chicago:20240519T100000
DTEND;TZID=America/Chicago:20240519T120000
DTSTAMP:20240501T023418Z
URL:https://bnaijehudah.org/events/sundays-with-sisterhood-family-breakfas
 t-helping-in-the-mitzvah-garden/
SUMMARY:Sundays with Sisterhood: Family Breakfast and Helping in the Mitzva
 h Garden
DESCRIPTION:Come join us to top off the year with your families at the Mitz
 vah Garden! Breakfast will be provided. Come ready to work!\n\nClick here 
 to register.
ATTACH;FMTTYPE=image/jpeg:https://bnaijehudah.org/wp-content/uploads/2023/
 12/mitzvah-garden.png
CATEGORIES:Sisterhood
END:VEVENT
BEGIN:VTIMEZONE
TZID:America/Chicago
X-LIC-LOCATION:America/Chicago
BEGIN:DAYLIGHT
DTSTART:20240310T030000
TZOFFSETFROM:-0600
TZOFFSETTO:-0500
TZNAME:CDT
END:DAYLIGHT
END:VTIMEZONE
END:VCALENDAR