BEGIN:VCALENDAR
VERSION:2.0
PRODID:-//wp-events-plugin.com//7.2.3.1//EN
TZID:America/Chicago
X-WR-TIMEZONE:America/Chicago
BEGIN:VEVENT
UID:650@bnaijehudah.org
DTSTART;TZID=America/Chicago:20240324T091500
DTEND;TZID=America/Chicago:20240324T120000
DTSTAMP:20240211T220416Z
URL:https://bnaijehudah.org/events/sundays-with-sisterhood-hamantaschen-ba
 king/
SUMMARY:Sundays with Sisterhood: Hamantaschen Baking
DESCRIPTION:Join Sisterhood in the social hall for hamantaschen baking! Thi
 s year we will be making and decorating our own hamantaschen to take home.
  We will make dough\, make fun creations and take them home for baking and
  sharing. Come dressed in clothes that can get a little messy and be prepa
 red to get creative! We will be collecting tube socks and personal care it
 ems (travel toothbrushes\, toothpaste\, shampoos\, small food items\, etc.
 ) to fill the tube socks as part of our social action component!\n\nClick 
 here to register.
ATTACH;FMTTYPE=image/jpeg:https://bnaijehudah.org/wp-content/uploads/2023/
 12/sundays-with-sisterhood-purim.png
CATEGORIES:Sisterhood
END:VEVENT
BEGIN:VTIMEZONE
TZID:America/Chicago
X-LIC-LOCATION:America/Chicago
BEGIN:DAYLIGHT
DTSTART:20240310T030000
TZOFFSETFROM:-0600
TZOFFSETTO:-0500
TZNAME:CDT
END:DAYLIGHT
END:VTIMEZONE
END:VCALENDAR