BEGIN:VCALENDAR
VERSION:2.0
PRODID:-//wp-events-plugin.com//7.2.3.1//EN
TZID:America/Chicago
X-WR-TIMEZONE:America/Chicago
BEGIN:VEVENT
UID:1774@bnaijehudah.org
DTSTART;TZID=America/Chicago:20241027T091500
DTEND;TZID=America/Chicago:20241027T103000
DTSTAMP:20241009T212430Z
URL:https://bnaijehudah.org/events/sundays-with-sisterhood-mandylicious-ch
 allah/
SUMMARY:Sundays with Sisterhood: Mandylicious Challah
DESCRIPTION:Meet Mandy Silverman\, Instagram’s Challah Guru\, as she teac
 hes us the fun art of specialty challah baking! This event is open to gene
 ral Sisterhood membership.\n\nRegister here for this event. $18 per person
 .
ATTACH;FMTTYPE=image/jpeg:https://bnaijehudah.org/wp-content/uploads/2024/
 10/mandylicious-challah.png
CATEGORIES:Sisterhood
END:VEVENT
BEGIN:VTIMEZONE
TZID:America/Chicago
X-LIC-LOCATION:America/Chicago
BEGIN:DAYLIGHT
DTSTART:20240310T030000
TZOFFSETFROM:-0600
TZOFFSETTO:-0500
TZNAME:CDT
END:DAYLIGHT
END:VTIMEZONE
END:VCALENDAR