BEGIN:VCALENDAR
VERSION:2.0
PRODID:-//wp-events-plugin.com//7.2.3.1//EN
TZID:America/Chicago
X-WR-TIMEZONE:America/Chicago
BEGIN:VEVENT
UID:616@bnaijehudah.org
DTSTART;TZID=America/Chicago:20240114T091500
DTEND;TZID=America/Chicago:20240114T120000
DTSTAMP:20231222T191436Z
URL:https://bnaijehudah.org/events/sundays-with-sisterhood-paint-pour/
SUMMARY:Sundays with Sisterhood: Paint & Pour
DESCRIPTION:Paint your very own beautiful Hamsa\, as guided by Pinot's Pale
 tte\, while sipping Mimosas! No painting experience required\, the teacher
  will provide instruction and guidance as needed. Please register by Janua
 ry 11.\n\nClick here to register.
CATEGORIES:Sisterhood
END:VEVENT
BEGIN:VTIMEZONE
TZID:America/Chicago
X-LIC-LOCATION:America/Chicago
BEGIN:STANDARD
DTSTART:20231105T010000
TZOFFSETFROM:-0500
TZOFFSETTO:-0600
TZNAME:CST
END:STANDARD
END:VTIMEZONE
END:VCALENDAR