BEGIN:VCALENDAR
VERSION:2.0
PRODID:-//wp-events-plugin.com//7.2.3.1//EN
TZID:America/Chicago
X-WR-TIMEZONE:America/Chicago
BEGIN:VEVENT
UID:1772@bnaijehudah.org
DTSTART;TZID=America/Chicago:20240922T091500
DTEND;TZID=America/Chicago:20240922T103000
DTSTAMP:20240617T015747Z
URL:https://bnaijehudah.org/events/sundays-with-sisterhood-yoga/
SUMMARY:Sundays with Sisterhood: Yoga
DESCRIPTION:Start the school and holiday season strong with calming\, energ
 izing yoga!\n\nRegister here for this free event.
CATEGORIES:Sisterhood
END:VEVENT
BEGIN:VTIMEZONE
TZID:America/Chicago
X-LIC-LOCATION:America/Chicago
BEGIN:DAYLIGHT
DTSTART:20240310T030000
TZOFFSETFROM:-0600
TZOFFSETTO:-0500
TZNAME:CDT
END:DAYLIGHT
END:VTIMEZONE
END:VCALENDAR