BEGIN:VCALENDAR
VERSION:2.0
PRODID:-//wp-events-plugin.com//7.2.3.1//EN
TZID:America/Chicago
X-WR-TIMEZONE:America/Chicago
BEGIN:VEVENT
UID:2499@bnaijehudah.org
DTSTART;TZID=America/Chicago:20250923T170000
DTEND;TZID=America/Chicago:20250923T170000
DTSTAMP:20250812T154225Z
URL:https://bnaijehudah.org/events/tashlich-with-new-reform-temple-at-loos
 e-park-2/
SUMMARY:Tashlich with New Reform Temple
DESCRIPTION:Join us for a meaningful Tashlich experience with our friends a
 t New Reform Temple! Symbolically cast away your missteps from the previou
 s year as we gather in reflection and set intentions for the year to come.
  BYOP (Bring Your Own Picnic) and enjoy the sunset alongside your Jewish c
 ommunity!\nPark Pond at Loose Park\, 5200 Wornall Rd\, Kansas City\, MO\nR
 egister here.
ATTACH;FMTTYPE=image/jpeg:https://bnaijehudah.org/wp-content/uploads/2025/
 05/tashlich-web.png
CATEGORIES:Community Connections,Holiday Programming
LOCATION:Park Pond at Loose Park\, 5200 Wornall Rd\, Kansas City\, MO\, 641
 12\, United Kingdom
X-APPLE-STRUCTURED-LOCATION;VALUE=URI;X-ADDRESS=5200 Wornall Rd\, Kansas Ci
 ty\, MO\, 64112\, United Kingdom;X-APPLE-RADIUS=100;X-TITLE=Park Pond at L
 oose Park:geo:0,0
END:VEVENT
BEGIN:VTIMEZONE
TZID:America/Chicago
X-LIC-LOCATION:America/Chicago
BEGIN:DAYLIGHT
DTSTART:20250309T030000
TZOFFSETFROM:-0600
TZOFFSETTO:-0500
TZNAME:CDT
END:DAYLIGHT
END:VTIMEZONE
END:VCALENDAR