BEGIN:VCALENDAR
VERSION:2.0
PRODID:-//wp-events-plugin.com//7.2.3.1//EN
TZID:America/Chicago
X-WR-TIMEZONE:America/Chicago
BEGIN:VEVENT
UID:1757@bnaijehudah.org
DTSTART;TZID=America/Chicago:20241003T170000
DTEND;TZID=America/Chicago:20241003T180000
DTSTAMP:20240826T003541Z
URL:https://bnaijehudah.org/events/tashlich-with-new-reform-temple-at-loos
 e-park/
SUMMARY:Tashlich with New Reform Temple at Loose Park
DESCRIPTION:Join us for a meaningful Tashlich experience with our friends a
 t New Reform Temple! Symbolically cast away your missteps from the previou
 s year as we gather in reflection and to set intentions for the year to co
 me. BYOP - Bring Your Own Picnic and enjoy the sunset alongside your Jewis
 h community!\n\nPlease register here so we can ensure we have enough ice c
 ream for everyone!
ATTACH;FMTTYPE=image/jpeg:https://bnaijehudah.org/wp-content/uploads/2024/
 05/Tashlich.png
CATEGORIES:Community Connections,Holiday Programming
LOCATION:Park Pond at Loose Park\, 5200 Wornall Rd\, Kansas City\, MO\, 641
 12\, United Kingdom
X-APPLE-STRUCTURED-LOCATION;VALUE=URI;X-ADDRESS=5200 Wornall Rd\, Kansas Ci
 ty\, MO\, 64112\, United Kingdom;X-APPLE-RADIUS=100;X-TITLE=Park Pond at L
 oose Park:geo:0,0
END:VEVENT
BEGIN:VTIMEZONE
TZID:America/Chicago
X-LIC-LOCATION:America/Chicago
BEGIN:DAYLIGHT
DTSTART:20240310T030000
TZOFFSETFROM:-0600
TZOFFSETTO:-0500
TZNAME:CDT
END:DAYLIGHT
END:VTIMEZONE
END:VCALENDAR