BEGIN:VCALENDAR
VERSION:2.0
PRODID:-//wp-events-plugin.com//7.2.3.1//EN
TZID:America/Chicago
X-WR-TIMEZONE:America/Chicago
BEGIN:VEVENT
UID:89@bnaijehudah.org
DTSTART;TZID=America/Chicago:20241211T093000
DTEND;TZID=America/Chicago:20241211T110000
DTSTAMP:20241126T222832Z
URL:https://bnaijehudah.org/events/torah-study-2024-12-11/
SUMMARY:Torah Study
DESCRIPTION:Join one of the rabbis each week for a lively discussion as we 
 learn insights from the weekly Torah portion. Torah Study meets every Wedn
 esday\, 10:00am-11:30 am.
CATEGORIES:Adult Education
END:VEVENT
BEGIN:VTIMEZONE
TZID:America/Chicago
X-LIC-LOCATION:America/Chicago
BEGIN:STANDARD
DTSTART:20241103T010000
TZOFFSETFROM:-0500
TZOFFSETTO:-0600
TZNAME:CST
END:STANDARD
END:VTIMEZONE
END:VCALENDAR