BEGIN:VCALENDAR
VERSION:2.0
PRODID:-//wp-events-plugin.com//7.2.3.1//EN
TZID:America/Chicago
X-WR-TIMEZONE:America/Chicago
BEGIN:VEVENT
UID:303@bnaijehudah.org
DTSTART;TZID=America/Chicago:20240419T133000
DTEND;TZID=America/Chicago:20240419T143000
DTSTAMP:20240301T195746Z
URL:https://bnaijehudah.org/events/village-shalom-happy-hour-offsite-2/
SUMMARY:Village Shalom Happy Hour - OFFSITE
DESCRIPTION:Join B’nai Jehudah residents of Village Shalom for a Shabbat 
 Happy Hour in the Fireside Lounge. We’ll do Shabbat blessings and schmoo
 ze while enjoying challah and wine.\n\nNo registration required.
CATEGORIES:65+ Thriving
END:VEVENT
BEGIN:VTIMEZONE
TZID:America/Chicago
X-LIC-LOCATION:America/Chicago
BEGIN:DAYLIGHT
DTSTART:20240310T030000
TZOFFSETFROM:-0600
TZOFFSETTO:-0500
TZNAME:CDT
END:DAYLIGHT
END:VTIMEZONE
END:VCALENDAR