BEGIN:VCALENDAR
VERSION:2.0
PRODID:-//wp-events-plugin.com//7.2.3.1//EN
TZID:America/Chicago
X-WR-TIMEZONE:America/Chicago
BEGIN:VEVENT
UID:1132@bnaijehudah.org
DTSTART;TZID=America/Chicago:20240915T090000
DTEND;TZID=America/Chicago:20240915T120000
DTSTAMP:20240813T151728Z
URL:https://bnaijehudah.org/events/yalla-2-2024-09-15/
SUMMARY:Yalla! (with Dan Nichols)
DESCRIPTION:Dan will spend the morning with our Yalla! students and get eve
 ryone moving with laughter\, energy and song!
CATEGORIES:Artist In Residence,Yalla! and Youth
END:VEVENT
BEGIN:VTIMEZONE
TZID:America/Chicago
X-LIC-LOCATION:America/Chicago
BEGIN:DAYLIGHT
DTSTART:20240310T030000
TZOFFSETFROM:-0600
TZOFFSETTO:-0500
TZNAME:CDT
END:DAYLIGHT
END:VTIMEZONE
END:VCALENDAR