BEGIN:VCALENDAR
VERSION:2.0
PRODID:-//wp-events-plugin.com//7.2.3.1//EN
TZID:America/Chicago
X-WR-TIMEZONE:America/Chicago
BEGIN:VEVENT
UID:1144@bnaijehudah.org
DTSTART;TZID=America/Chicago:20241208T090000
DTEND;TZID=America/Chicago:20241208T120000
DTSTAMP:20240623T210919Z
URL:https://bnaijehudah.org/events/yalla-2-2024-12-08/
SUMMARY:Yalla! with Coleen Dieker
DESCRIPTION:Coleen will be bringing her ruach and music to Yalla!. Coleen w
 ill spend time with our Yalla! students in t’filah and during music clas
 ses. We are thrilled to introduce Coleen to the next generation of B'nai J
 ehudah members and know they will love her just as much as we do!
CATEGORIES:Yalla! and Youth
END:VEVENT
BEGIN:VTIMEZONE
TZID:America/Chicago
X-LIC-LOCATION:America/Chicago
BEGIN:STANDARD
DTSTART:20241103T010000
TZOFFSETFROM:-0500
TZOFFSETTO:-0600
TZNAME:CST
END:STANDARD
END:VTIMEZONE
END:VCALENDAR