BEGIN:VCALENDAR
VERSION:2.0
PRODID:-//wp-events-plugin.com//7.2.3.1//EN
TZID:America/Chicago
X-WR-TIMEZONE:America/Chicago
BEGIN:VEVENT
UID:2437@bnaijehudah.org
DTSTART;TZID=America/Chicago:20250503T200000
DTEND;TZID=America/Chicago:20250503T200000
DTSTAMP:20250418T160139Z
URL:https://bnaijehudah.org/events/yom-haatzmaut-21-israeli-birthday-party
 /
SUMMARY:Yom Ha’atzmaut 21+ Israeli Birthday Party
DESCRIPTION:Join Jewish Experiences\, along with YAD and JCRB|AJC KC\, as w
 e raise a l’chaim to Israel and its 77th year!\nWe will come together fo
 r a night of Israel-themed fun at a local brewery. Registration includes t
 wo drink tickets and Kosher nosh.\nRegister Here.
ATTACH;FMTTYPE=image/jpeg:https://bnaijehudah.org/wp-content/uploads/2025/
 04/3.png
END:VEVENT
BEGIN:VTIMEZONE
TZID:America/Chicago
X-LIC-LOCATION:America/Chicago
BEGIN:DAYLIGHT
DTSTART:20250309T030000
TZOFFSETFROM:-0600
TZOFFSETTO:-0500
TZNAME:CDT
END:DAYLIGHT
END:VTIMEZONE
END:VCALENDAR