BEGIN:VCALENDAR
VERSION:2.0
PRODID:-//wp-events-plugin.com//7.2.3.1//EN
TZID:America/Chicago
X-WR-TIMEZONE:America/Chicago
BEGIN:VEVENT
UID:350@bnaijehudah.org
DTSTART;TZID=America/Chicago:20240514T180000
DTEND;TZID=America/Chicago:20240514T193000
DTSTAMP:20240304T032912Z
URL:https://bnaijehudah.org/events/yom-haatzmaut-with-bnai-jehudah/
SUMMARY:Yom HaAtzma-ut with B’nai Jehudah
DESCRIPTION:In honor of Yom HaAtzma-ut\, we're going to celebrate Israel's 
 independence with a discussion of Daniel Gordis' book Impossible Takes Lon
 ger\, a book about Israel's founding and how close it has come to achievin
 g the goals set by its founders. Please come prepared to discuss the book 
 which is available in print and on Kindle. This program will be virtual an
 d in book club format with questions facilitated by Rabbi Rothstein.\n\nCl
 ick here to register.
ATTACH;FMTTYPE=image/jpeg:https://bnaijehudah.org/wp-content/uploads/2023/
 12/book-club-Israel-CBJ.png
CATEGORIES:Adult Education,Holiday Programming
END:VEVENT
BEGIN:VTIMEZONE
TZID:America/Chicago
X-LIC-LOCATION:America/Chicago
BEGIN:DAYLIGHT
DTSTART:20240310T030000
TZOFFSETFROM:-0600
TZOFFSETTO:-0500
TZNAME:CDT
END:DAYLIGHT
END:VTIMEZONE
END:VCALENDAR