BEGIN:VCALENDAR
VERSION:2.0
PRODID:-//wp-events-plugin.com//7.2.3.1//EN
TZID:America/Chicago
X-WR-TIMEZONE:America/Chicago
BEGIN:VEVENT
UID:1782@bnaijehudah.org
DTSTART;TZID=America/Chicago:20241012T130000
DTEND;TZID=America/Chicago:20241012T140000
DTSTAMP:20240706T230813Z
URL:https://bnaijehudah.org/events/yom-kippur-afternoon-classes/
SUMMARY:Yom Kippur Afternoon Classes
DESCRIPTION:Join us in study and reflection as we observe our Day of Atonem
 ent together. Offerings include:\n• Walk through the Mitzvah Garden with
  Ken Sonnenschein\n• Talk and Discussion on the Israel/Palestine Conflic
 t with Ben Schneider\n• Klein Collection Presentation and Guided Meditat
 ion with Abby Magariel and Aimee Bernstein\nRegister here.
CATEGORIES:Holiday Programming
END:VEVENT
BEGIN:VTIMEZONE
TZID:America/Chicago
X-LIC-LOCATION:America/Chicago
BEGIN:DAYLIGHT
DTSTART:20240310T030000
TZOFFSETFROM:-0600
TZOFFSETTO:-0500
TZNAME:CDT
END:DAYLIGHT
END:VTIMEZONE
END:VCALENDAR