BEGIN:VCALENDAR
VERSION:2.0
PRODID:-//wp-events-plugin.com//7.2.3.1//EN
TZID:America/Chicago
X-WR-TIMEZONE:America/Chicago
BEGIN:VEVENT
UID:1780@bnaijehudah.org
DTSTART;TZID=America/Chicago:20241012T154500
DTEND;TZID=America/Chicago:20241012T154500
DTSTAMP:20240706T230535Z
URL:https://bnaijehudah.org/events/yom-kippur-afternoon-torah-service/
SUMMARY:Yom Kippur Afternoon Torah Service
DESCRIPTION:Join us for an afternoon Torah service. We will read Torah from
  our special Holocaust scroll and explore lessons from the Book of Jonah.\
 nRegister here.
CATEGORIES:Holiday Programming
END:VEVENT
BEGIN:VTIMEZONE
TZID:America/Chicago
X-LIC-LOCATION:America/Chicago
BEGIN:DAYLIGHT
DTSTART:20240310T030000
TZOFFSETFROM:-0600
TZOFFSETTO:-0500
TZNAME:CDT
END:DAYLIGHT
END:VTIMEZONE
END:VCALENDAR