BEGIN:VCALENDAR
VERSION:2.0
PRODID:-//wp-events-plugin.com//7.2.3.1//EN
TZID:America/Chicago
X-WR-TIMEZONE:America/Chicago
BEGIN:VEVENT
UID:1791@bnaijehudah.org
DTSTART;TZID=America/Chicago:20241012T103000
DTEND;TZID=America/Chicago:20241012T103000
DTSTAMP:20240707T151436Z
URL:https://bnaijehudah.org/events/yom-kippur-childcare/
SUMMARY:Yom Kippur Childcare
DESCRIPTION:We are pleased to offer free childcare during our Yom Kippur mo
 rning services for children ages 6 months to pre-K. All children must be r
 egistered to attend.\n\nRegister here.
CATEGORIES:Holiday Programming,Yalla! and Youth,Young Families
END:VEVENT
BEGIN:VTIMEZONE
TZID:America/Chicago
X-LIC-LOCATION:America/Chicago
BEGIN:DAYLIGHT
DTSTART:20240310T030000
TZOFFSETFROM:-0600
TZOFFSETTO:-0500
TZNAME:CDT
END:DAYLIGHT
END:VTIMEZONE
END:VCALENDAR