BEGIN:VCALENDAR
VERSION:2.0
PRODID:-//wp-events-plugin.com//7.2.3.1//EN
TZID:America/Chicago
X-WR-TIMEZONE:America/Chicago
BEGIN:VEVENT
UID:1781@bnaijehudah.org
DTSTART;TZID=America/Chicago:20241012T150000
DTEND;TZID=America/Chicago:20241012T154500
DTSTAMP:20240706T230446Z
URL:https://bnaijehudah.org/events/yom-kippur-contemplative-music/
SUMMARY:Yom Kippur Contemplative Music
DESCRIPTION:Enjoy 30 minutes of contemplative instrumental music as you spe
 nd time in quiet\, personal reflection and prayer.\n\nRegister here.
CATEGORIES:Holiday Programming
END:VEVENT
BEGIN:VTIMEZONE
TZID:America/Chicago
X-LIC-LOCATION:America/Chicago
BEGIN:DAYLIGHT
DTSTART:20240310T030000
TZOFFSETFROM:-0600
TZOFFSETTO:-0500
TZNAME:CDT
END:DAYLIGHT
END:VTIMEZONE
END:VCALENDAR