BEGIN:VCALENDAR
VERSION:2.0
PRODID:-//wp-events-plugin.com//7.2.3.1//EN
TZID:America/Chicago
X-WR-TIMEZONE:America/Chicago
BEGIN:VEVENT
UID:1762@bnaijehudah.org
DTSTART;TZID=America/Chicago:20241012T083000
DTEND;TZID=America/Chicago:20241012T093000
DTSTAMP:20240707T151832Z
URL:https://bnaijehudah.org/events/yom-kippur-family-puppet-service/
SUMMARY:Yom Kippur Family Puppet Service
DESCRIPTION:Our friends from What If Puppets return for this special Family
  Service for Yom Kippur. Join our Rabbis and volunteer puppeteers for an h
 our of prayer\, song\, and amazing puppetry. Designed for children ages 7 
 and under and their families\, all are welcome to attend this community-wi
 de event. Be sure to invite friends with young children! The Family Servic
 e is made possible through the generosity of Michael Klein.\n\nRegister he
 re.
CATEGORIES:Holiday Programming,Yalla! and Youth,Young Families
END:VEVENT
BEGIN:VTIMEZONE
TZID:America/Chicago
X-LIC-LOCATION:America/Chicago
BEGIN:DAYLIGHT
DTSTART:20240310T030000
TZOFFSETFROM:-0600
TZOFFSETTO:-0500
TZNAME:CDT
END:DAYLIGHT
END:VTIMEZONE
END:VCALENDAR