BEGIN:VCALENDAR
VERSION:2.0
PRODID:-//wp-events-plugin.com//7.2.3.1//EN
TZID:America/Chicago
X-WR-TIMEZONE:America/Chicago
BEGIN:VEVENT
UID:1783@bnaijehudah.org
DTSTART;TZID=America/Chicago:20241012T103000
DTEND;TZID=America/Chicago:20241012T103000
DTSTAMP:20240706T231121Z
URL:https://bnaijehudah.org/events/yom-kippur-morning-services-and-program
 s/
SUMMARY:Yom Kippur Morning Services
DESCRIPTION:We gather on Yom Kippur as a congregational family. Our servic
 e this morning will reflect on the themes of repentance and renewal. We ar
 e challenged to cleanse and heal our souls.\nRegister here.
CATEGORIES:Holiday Programming
END:VEVENT
BEGIN:VTIMEZONE
TZID:America/Chicago
X-LIC-LOCATION:America/Chicago
BEGIN:DAYLIGHT
DTSTART:20240310T030000
TZOFFSETFROM:-0600
TZOFFSETTO:-0500
TZNAME:CDT
END:DAYLIGHT
END:VTIMEZONE
END:VCALENDAR